BEGIN:VCALENDAR
VERSION:2.0
PRODID:-//wp-events-plugin.com//7.2.3.1//EN
TZID:Europe/Rome
X-WR-TIMEZONE:Europe/Rome
BEGIN:VEVENT
UID:17@paradisidasogno.it
DTSTART;TZID=Europe/Rome;VALUE=DATE:20260425
DTEND;TZID=Europe/Rome;VALUE=DATE:20260426
DTSTAMP:20260217T093002Z
URL:https://www.paradisidasogno.it/viaggiorganizzati/speciale-25-aprile-a-
 san-marino-e-san-leo/
SUMMARY:SPECIALE 25 APRILE A SAN MARINO E SAN LEO
DESCRIPTION:UN CLASSICO INTRAMONTABILE
ATTACH;FMTTYPE=image/jpeg:https://www.paradisidasogno.it/wp-content/upload
 s/2026/02/san-marino-6585651_1280-002.jpg
END:VEVENT
BEGIN:VTIMEZONE
TZID:Europe/Rome
X-LIC-LOCATION:Europe/Rome
BEGIN:DAYLIGHT
DTSTART:20260329T030000
TZOFFSETFROM:+0100
TZOFFSETTO:+0200
TZNAME:CEST
END:DAYLIGHT
END:VTIMEZONE
END:VCALENDAR